BEGIN:VCALENDAR
VERSION:2.0
PRODID:-//Lietuvos įtraukties švietime centras - ECPv6.15.20//NONSGML v1.0//EN
CALSCALE:GREGORIAN
METHOD:PUBLISH
X-ORIGINAL-URL:https://lisc.lt
X-WR-CALDESC:Lietuvos įtraukties švietime centras renginiai
REFRESH-INTERVAL;VALUE=DURATION:PT1H
X-Robots-Tag:noindex
X-PUBLISHED-TTL:PT1H
BEGIN:VTIMEZONE
TZID:Europe/Vilnius
BEGIN:DAYLIGHT
TZOFFSETFROM:+0200
TZOFFSETTO:+0300
TZNAME:EEST
DTSTART:20250330T010000
END:DAYLIGHT
BEGIN:STANDARD
TZOFFSETFROM:+0300
TZOFFSETTO:+0200
TZNAME:EET
DTSTART:20251026T010000
END:STANDARD
BEGIN:DAYLIGHT
TZOFFSETFROM:+0200
TZOFFSETTO:+0300
TZNAME:EEST
DTSTART:20260329T010000
END:DAYLIGHT
BEGIN:STANDARD
TZOFFSETFROM:+0300
TZOFFSETTO:+0200
TZNAME:EET
DTSTART:20261025T010000
END:STANDARD
BEGIN:DAYLIGHT
TZOFFSETFROM:+0200
TZOFFSETTO:+0300
TZNAME:EEST
DTSTART:20270328T010000
END:DAYLIGHT
BEGIN:STANDARD
TZOFFSETFROM:+0300
TZOFFSETTO:+0200
TZNAME:EET
DTSTART:20271031T010000
END:STANDARD
END:VTIMEZONE
BEGIN:VEVENT
DTSTART;TZID=Europe/Vilnius:20260122T140000
DTEND;TZID=Europe/Vilnius:20260122T170000
DTSTAMP:20260423T051047
CREATED:20260115T123004Z
LAST-MODIFIED:20260115T123004Z
UID:7921-1769090400-1769101200@lisc.lt
SUMMARY:Seminaras V PEPIS modulis „Pozityvaus elgesio palaikymo ir intervencijų sistemos įgyvendinimo tikslingumas“ II dalis
DESCRIPTION:Nuotolinis renginys\, skirtas PEPIS mokyklų pedagogams.
URL:https://lisc.lt/renginys/seminaras-v-pepis-modulis-pozityvaus-elgesio-palaikymo-ir-intervenciju-sistemos-igyvendinimo-tikslingumas-ii-dalis/
END:VEVENT
END:VCALENDAR