BEGIN:VCALENDAR
VERSION:2.0
PRODID:-//Lietuvos įtraukties švietime centras - ECPv6.15.20//NONSGML v1.0//EN
CALSCALE:GREGORIAN
METHOD:PUBLISH
X-ORIGINAL-URL:https://lisc.lt
X-WR-CALDESC:Lietuvos įtraukties švietime centras renginiai
REFRESH-INTERVAL;VALUE=DURATION:PT1H
X-Robots-Tag:noindex
X-PUBLISHED-TTL:PT1H
BEGIN:VTIMEZONE
TZID:Europe/Vilnius
BEGIN:DAYLIGHT
TZOFFSETFROM:+0200
TZOFFSETTO:+0300
TZNAME:EEST
DTSTART:20250330T010000
END:DAYLIGHT
BEGIN:STANDARD
TZOFFSETFROM:+0300
TZOFFSETTO:+0200
TZNAME:EET
DTSTART:20251026T010000
END:STANDARD
BEGIN:DAYLIGHT
TZOFFSETFROM:+0200
TZOFFSETTO:+0300
TZNAME:EEST
DTSTART:20260329T010000
END:DAYLIGHT
BEGIN:STANDARD
TZOFFSETFROM:+0300
TZOFFSETTO:+0200
TZNAME:EET
DTSTART:20261025T010000
END:STANDARD
BEGIN:DAYLIGHT
TZOFFSETFROM:+0200
TZOFFSETTO:+0300
TZNAME:EEST
DTSTART:20270328T010000
END:DAYLIGHT
BEGIN:STANDARD
TZOFFSETFROM:+0300
TZOFFSETTO:+0200
TZNAME:EET
DTSTART:20271031T010000
END:STANDARD
END:VTIMEZONE
BEGIN:VEVENT
DTSTART;TZID=Europe/Vilnius:20260123T100000
DTEND;TZID=Europe/Vilnius:20260123T110000
DTSTAMP:20260423T064237
CREATED:20260127T081428Z
LAST-MODIFIED:20260127T081428Z
UID:7987-1769162400-1769166000@lisc.lt
SUMMARY:Viešoji konsultacija „Pedagoginių psichologinių tarnybų vadovų konsultavimas dėl metinės veiklos ataskaitos duomenų pildymo“
DESCRIPTION:Nuotolinis renginys\, skirtas Pedagoginių psichologinių tarnybų vadovams.
URL:https://lisc.lt/renginys/viesoji-konsultacija-pedagoginiu-psichologiniu-tarnybu-vadovu-konsultavimas-del-metines-veiklos-ataskaitos-duomenu-pildymo/
END:VEVENT
END:VCALENDAR