BEGIN:VCALENDAR
VERSION:2.0
PRODID:-//Lietuvos įtraukties švietime centras - ECPv6.15.20//NONSGML v1.0//EN
CALSCALE:GREGORIAN
METHOD:PUBLISH
X-WR-CALNAME:Lietuvos įtraukties švietime centras
X-ORIGINAL-URL:https://lisc.lt
X-WR-CALDESC:Lietuvos įtraukties švietime centras renginiai
REFRESH-INTERVAL;VALUE=DURATION:PT1H
X-Robots-Tag:noindex
X-PUBLISHED-TTL:PT1H
BEGIN:VTIMEZONE
TZID:Europe/Vilnius
BEGIN:DAYLIGHT
TZOFFSETFROM:+0200
TZOFFSETTO:+0300
TZNAME:EEST
DTSTART:20250330T010000
END:DAYLIGHT
BEGIN:STANDARD
TZOFFSETFROM:+0300
TZOFFSETTO:+0200
TZNAME:EET
DTSTART:20251026T010000
END:STANDARD
BEGIN:DAYLIGHT
TZOFFSETFROM:+0200
TZOFFSETTO:+0300
TZNAME:EEST
DTSTART:20260329T010000
END:DAYLIGHT
BEGIN:STANDARD
TZOFFSETFROM:+0300
TZOFFSETTO:+0200
TZNAME:EET
DTSTART:20261025T010000
END:STANDARD
BEGIN:DAYLIGHT
TZOFFSETFROM:+0200
TZOFFSETTO:+0300
TZNAME:EEST
DTSTART:20270328T010000
END:DAYLIGHT
BEGIN:STANDARD
TZOFFSETFROM:+0300
TZOFFSETTO:+0200
TZNAME:EET
DTSTART:20271031T010000
END:STANDARD
END:VTIMEZONE
BEGIN:VEVENT
DTSTART;TZID=Europe/Vilnius:20260212T100000
DTEND;TZID=Europe/Vilnius:20260212T170000
DTSTAMP:20260423T014358
CREATED:20260212T061453Z
LAST-MODIFIED:20260212T061453Z
UID:8107-1770890400-1770915600@lisc.lt
SUMMARY:Seminaras „Ugdymo proceso organizavimas vaikams\, turintiems autizmo spektro sutrikimų\, atsižvelgiant į pozityvaus elgesio palaikymo ir intervencijų sistemos principus. Daugiapakopė sistema: praktikos ir strategijos“
DESCRIPTION:Kontaktinis renginys\, skirtas PEPIS mokyklų pedagogams.
URL:https://lisc.lt/renginys/seminaras-ugdymo-proceso-organizavimas-vaikams-turintiems-autizmo-spektro-sutrikimu-atsizvelgiant-i-pozityvaus-elgesio-palaikymo-ir-intervenciju-sistemos-principus-daugiapakope-sistema-pr/
LOCATION:Lietuvos įtraukties švietime centras\, Džiaugsmo g. 44\, Vilnius\, Lietuva
END:VEVENT
END:VCALENDAR