BEGIN:VCALENDAR
VERSION:2.0
PRODID:-//Lietuvos įtraukties švietime centras - ECPv6.15.20//NONSGML v1.0//EN
CALSCALE:GREGORIAN
METHOD:PUBLISH
X-ORIGINAL-URL:https://lisc.lt
X-WR-CALDESC:Lietuvos įtraukties švietime centras renginiai
REFRESH-INTERVAL;VALUE=DURATION:PT1H
X-Robots-Tag:noindex
X-PUBLISHED-TTL:PT1H
BEGIN:VTIMEZONE
TZID:Europe/Vilnius
BEGIN:DAYLIGHT
TZOFFSETFROM:+0200
TZOFFSETTO:+0300
TZNAME:EEST
DTSTART:20250330T010000
END:DAYLIGHT
BEGIN:STANDARD
TZOFFSETFROM:+0300
TZOFFSETTO:+0200
TZNAME:EET
DTSTART:20251026T010000
END:STANDARD
BEGIN:DAYLIGHT
TZOFFSETFROM:+0200
TZOFFSETTO:+0300
TZNAME:EEST
DTSTART:20260329T010000
END:DAYLIGHT
BEGIN:STANDARD
TZOFFSETFROM:+0300
TZOFFSETTO:+0200
TZNAME:EET
DTSTART:20261025T010000
END:STANDARD
BEGIN:DAYLIGHT
TZOFFSETFROM:+0200
TZOFFSETTO:+0300
TZNAME:EEST
DTSTART:20270328T010000
END:DAYLIGHT
BEGIN:STANDARD
TZOFFSETFROM:+0300
TZOFFSETTO:+0200
TZNAME:EET
DTSTART:20271031T010000
END:STANDARD
END:VTIMEZONE
BEGIN:VEVENT
DTSTART;TZID=Europe/Vilnius:20260225T100000
DTEND;TZID=Europe/Vilnius:20260225T140000
DTSTAMP:20260422T233627
CREATED:20260115T132114Z
LAST-MODIFIED:20260115T132114Z
UID:7942-1772013600-1772028000@lisc.lt
SUMMARY:Seminaras „Klasės valdymo strategijos“
DESCRIPTION:Kontaktinis renginys\, skirtas Alytaus miesto mokyklų vaiko gerovės komisijų nariams.
URL:https://lisc.lt/renginys/seminaras-klases-valdymo-strategijos-6/
LOCATION:Alytaus pedagoginė psichologinė tarnyba
END:VEVENT
BEGIN:VEVENT
DTSTART;TZID=Europe/Vilnius:20260225T140000
DTEND;TZID=Europe/Vilnius:20260225T153000
DTSTAMP:20260422T233627
CREATED:20260205T093119Z
LAST-MODIFIED:20260205T093119Z
UID:8068-1772028000-1772033400@lisc.lt
SUMMARY:Paskaita „Stebėjimo metodo taikymas pedagoginio psichologinio vertinimo metu“
DESCRIPTION:Nuotolinis renginys\, skirtas ugdymo įstaigų švietimo pagalbos specialistams.
URL:https://lisc.lt/renginys/paskaita-stebejimo-metodo-taikymas-pedagoginio-psichologinio-vertinimo-metu/
END:VEVENT
END:VCALENDAR