BEGIN:VCALENDAR
VERSION:2.0
PRODID:-//Lietuvos įtraukties švietime centras - ECPv6.15.20//NONSGML v1.0//EN
CALSCALE:GREGORIAN
METHOD:PUBLISH
X-WR-CALNAME:Lietuvos įtraukties švietime centras
X-ORIGINAL-URL:https://lisc.lt
X-WR-CALDESC:Lietuvos įtraukties švietime centras renginiai
REFRESH-INTERVAL;VALUE=DURATION:PT1H
X-Robots-Tag:noindex
X-PUBLISHED-TTL:PT1H
BEGIN:VTIMEZONE
TZID:Europe/Vilnius
BEGIN:DAYLIGHT
TZOFFSETFROM:+0200
TZOFFSETTO:+0300
TZNAME:EEST
DTSTART:20250330T010000
END:DAYLIGHT
BEGIN:STANDARD
TZOFFSETFROM:+0300
TZOFFSETTO:+0200
TZNAME:EET
DTSTART:20251026T010000
END:STANDARD
BEGIN:DAYLIGHT
TZOFFSETFROM:+0200
TZOFFSETTO:+0300
TZNAME:EEST
DTSTART:20260329T010000
END:DAYLIGHT
BEGIN:STANDARD
TZOFFSETFROM:+0300
TZOFFSETTO:+0200
TZNAME:EET
DTSTART:20261025T010000
END:STANDARD
BEGIN:DAYLIGHT
TZOFFSETFROM:+0200
TZOFFSETTO:+0300
TZNAME:EEST
DTSTART:20270328T010000
END:DAYLIGHT
BEGIN:STANDARD
TZOFFSETFROM:+0300
TZOFFSETTO:+0200
TZNAME:EET
DTSTART:20271031T010000
END:STANDARD
END:VTIMEZONE
BEGIN:VEVENT
DTSTART;TZID=Europe/Vilnius:20260302T090000
DTEND;TZID=Europe/Vilnius:20260302T120000
DTSTAMP:20260422T232558
CREATED:20260127T084733Z
LAST-MODIFIED:20260127T084733Z
UID:8009-1772442000-1772452800@lisc.lt
SUMMARY:Supervizija „SET vertinimas“
DESCRIPTION:Kontaktinis renginys\, skirtas Kauno rajono Užliedžių mokyklos-daugiafunkcio centro pedagogams.
URL:https://lisc.lt/renginys/supervizija-set-vertinimas-4/
LOCATION:Kauno rajono Užliedžių mokykla-daugiafunkcis centras\, Ledos g. 2\, Užliedžių k.
END:VEVENT
BEGIN:VEVENT
DTSTART;TZID=Europe/Vilnius:20260302T140000
DTEND;TZID=Europe/Vilnius:20260302T153000
DTSTAMP:20260422T232558
CREATED:20260212T063415Z
LAST-MODIFIED:20260306T111107Z
UID:8117-1772460000-1772465400@lisc.lt
SUMMARY:Viešoji konsultacija
DESCRIPTION:Nuotolinis renginys „Veiksmingų pagalbos įrankių taikymas ugdymo procese mokiniams\, turintiems intelekto sutrikimą“\, skirtas ugdymo įstaigų pedagogams\, švietimo pagalbos specialistams\, mokinio padėjėjams.
URL:https://lisc.lt/renginys/viesoji-konsultacija-veiksmingu-pagalbos-irankiu-taikymas-ugdymo-procese-mokiniams-turintiems-intelekto-sutrikima-3/
END:VEVENT
BEGIN:VEVENT
DTSTART;TZID=Europe/Vilnius:20260302T160000
DTEND;TZID=Europe/Vilnius:20260302T173000
DTSTAMP:20260422T232558
CREATED:20260211T090831Z
LAST-MODIFIED:20260306T111036Z
UID:8102-1772467200-1772472600@lisc.lt
SUMMARY:Viešoji konsultacija
DESCRIPTION:Nuotolinis renginys „Sensorinės integracijos ypatumų atpažinimas mokiniams\, turintiems specialiųjų ugdymosi poreikių“\, skirtas mokyklų vaiko gerovės komisijų (VGK) nariams.
URL:https://lisc.lt/renginys/viesoji-konsultacija-2/
END:VEVENT
END:VCALENDAR