BEGIN:VCALENDAR
VERSION:2.0
PRODID:-//Lietuvos įtraukties švietime centras - ECPv6.15.20//NONSGML v1.0//EN
CALSCALE:GREGORIAN
METHOD:PUBLISH
X-WR-CALNAME:Lietuvos įtraukties švietime centras
X-ORIGINAL-URL:https://lisc.lt
X-WR-CALDESC:Lietuvos įtraukties švietime centras renginiai
REFRESH-INTERVAL;VALUE=DURATION:PT1H
X-Robots-Tag:noindex
X-PUBLISHED-TTL:PT1H
BEGIN:VTIMEZONE
TZID:Europe/Vilnius
BEGIN:DAYLIGHT
TZOFFSETFROM:+0200
TZOFFSETTO:+0300
TZNAME:EEST
DTSTART:20250330T010000
END:DAYLIGHT
BEGIN:STANDARD
TZOFFSETFROM:+0300
TZOFFSETTO:+0200
TZNAME:EET
DTSTART:20251026T010000
END:STANDARD
BEGIN:DAYLIGHT
TZOFFSETFROM:+0200
TZOFFSETTO:+0300
TZNAME:EEST
DTSTART:20260329T010000
END:DAYLIGHT
BEGIN:STANDARD
TZOFFSETFROM:+0300
TZOFFSETTO:+0200
TZNAME:EET
DTSTART:20261025T010000
END:STANDARD
BEGIN:DAYLIGHT
TZOFFSETFROM:+0200
TZOFFSETTO:+0300
TZNAME:EEST
DTSTART:20270328T010000
END:DAYLIGHT
BEGIN:STANDARD
TZOFFSETFROM:+0300
TZOFFSETTO:+0200
TZNAME:EET
DTSTART:20271031T010000
END:STANDARD
END:VTIMEZONE
BEGIN:VEVENT
DTSTART;TZID=Europe/Vilnius:20260317T090000
DTEND;TZID=Europe/Vilnius:20260317T120000
DTSTAMP:20260423T012952
CREATED:20260127T093150Z
LAST-MODIFIED:20260127T093150Z
UID:8024-1773738000-1773748800@lisc.lt
SUMMARY:Supervizija „SET vertinimas“
DESCRIPTION:Kontaktinis renginys\, skirtas Vilniaus Salininkų gimnazijos pedagogams.
URL:https://lisc.lt/renginys/supervizija-set-vertinimas-7/
LOCATION:Vilniaus Salininkų gimnazija
END:VEVENT
BEGIN:VEVENT
DTSTART;TZID=Europe/Vilnius:20260317T140000
DTEND;TZID=Europe/Vilnius:20260317T153000
DTSTAMP:20260423T012952
CREATED:20260317T141353Z
LAST-MODIFIED:20260317T141353Z
UID:8349-1773756000-1773761400@lisc.lt
SUMMARY:Paskaita „Kognityviniai specifinių mokymosi sutrikimų aspektai. Suvokimo sunkumai ir pagalbos būdai“
DESCRIPTION:Nuotolinis renginys\, skirtas ugdymo įstaigų pedagogams\, psichologams.
URL:https://lisc.lt/renginys/paskaita-kognityviniai-specifiniu-mokymosi-sutrikimu-aspektai-suvokimo-sunkumai-ir-pagalbos-budai/
END:VEVENT
END:VCALENDAR