BEGIN:VCALENDAR
VERSION:2.0
PRODID:-//Lietuvos įtraukties švietime centras - ECPv6.15.20//NONSGML v1.0//EN
CALSCALE:GREGORIAN
METHOD:PUBLISH
X-ORIGINAL-URL:https://lisc.lt
X-WR-CALDESC:Lietuvos įtraukties švietime centras renginiai
REFRESH-INTERVAL;VALUE=DURATION:PT1H
X-Robots-Tag:noindex
X-PUBLISHED-TTL:PT1H
BEGIN:VTIMEZONE
TZID:Europe/Vilnius
BEGIN:DAYLIGHT
TZOFFSETFROM:+0200
TZOFFSETTO:+0300
TZNAME:EEST
DTSTART:20250330T010000
END:DAYLIGHT
BEGIN:STANDARD
TZOFFSETFROM:+0300
TZOFFSETTO:+0200
TZNAME:EET
DTSTART:20251026T010000
END:STANDARD
BEGIN:DAYLIGHT
TZOFFSETFROM:+0200
TZOFFSETTO:+0300
TZNAME:EEST
DTSTART:20260329T010000
END:DAYLIGHT
BEGIN:STANDARD
TZOFFSETFROM:+0300
TZOFFSETTO:+0200
TZNAME:EET
DTSTART:20261025T010000
END:STANDARD
BEGIN:DAYLIGHT
TZOFFSETFROM:+0200
TZOFFSETTO:+0300
TZNAME:EEST
DTSTART:20270328T010000
END:DAYLIGHT
BEGIN:STANDARD
TZOFFSETFROM:+0300
TZOFFSETTO:+0200
TZNAME:EET
DTSTART:20271031T010000
END:STANDARD
END:VTIMEZONE
BEGIN:VEVENT
DTSTART;TZID=Europe/Vilnius:20260326T100000
DTEND;TZID=Europe/Vilnius:20260326T120000
DTSTAMP:20260422T233838
CREATED:20260225T085732Z
LAST-MODIFIED:20260325T083556Z
UID:8152-1774519200-1774526400@lisc.lt
SUMMARY:Paskaita „Mokytojo ir tėvų bendradarbiavimas ugdant ikimokyklinio amžiaus vaikus\, turinčius elgesio ar (ir) emocijų sutrikimų“
DESCRIPTION:Kontaktinis renginys\, skirtas Marijampolės ikimokyklinio ugdymo įstaigų pedagogams.
URL:https://lisc.lt/renginys/paskaita-bendrystes-dovanos-ir-atsakomybe-vaikams/
LOCATION:Mercure viešbučio konferencijų salė\, J. Basanavičiaus Sq 8\, Marijampolė
END:VEVENT
BEGIN:VEVENT
DTSTART;TZID=Europe/Vilnius:20260326T130000
DTEND;TZID=Europe/Vilnius:20260326T160000
DTSTAMP:20260422T233838
CREATED:20260325T083929Z
LAST-MODIFIED:20260325T083929Z
UID:8451-1774530000-1774540800@lisc.lt
SUMMARY:Seminaras „Funkcinis elgesio vertinimas“
DESCRIPTION:Kontaktinis renginys\, skirtas Kauno r. Mastaičių mokyklos-daugiafunkcio centro pedagogams.
URL:https://lisc.lt/renginys/seminaras-funkcinis-elgesio-vertinimas/
LOCATION:Kauno r. Mastaičių mokykla-daugiafunkcis centras\, Mokslo g. 2a\, Mastaičiai\, Kauno r.
END:VEVENT
BEGIN:VEVENT
DTSTART;TZID=Europe/Vilnius:20260326T160000
DTEND;TZID=Europe/Vilnius:20260326T170000
DTSTAMP:20260422T233838
CREATED:20260325T084207Z
LAST-MODIFIED:20260325T084207Z
UID:8454-1774540800-1774544400@lisc.lt
SUMMARY:Supervizija
DESCRIPTION:Kontaktinis renginys „SET duomenų aptarimas“\, skirtas Kauno r. Mastaičių mokyklos-daugiafunkcio centro pedagogams.
URL:https://lisc.lt/renginys/supervizija-12/
LOCATION:Kauno r. Mastaičių mokykla-daugiafunkcis centras\, Mokslo g. 2a\, Mastaičiai\, Kauno r.
END:VEVENT
BEGIN:VEVENT
DTSTART;TZID=Europe/Vilnius:20260326T160000
DTEND;TZID=Europe/Vilnius:20260326T173000
DTSTAMP:20260422T233838
CREATED:20260325T084645Z
LAST-MODIFIED:20260325T084645Z
UID:8456-1774540800-1774546200@lisc.lt
SUMMARY:Viešoji konsultacija „Sensorinės integracijos (SI) ypatumų atpažinimas“
DESCRIPTION:Nuotolinis renginys\, skirtas regioninių specialiojo ugdymo centrų švietimo pagalbos specialistams.
URL:https://lisc.lt/renginys/viesoji-konsultacija-sensorines-integracijos-si-ypatumu-atpazinimas/
END:VEVENT
END:VCALENDAR