BEGIN:VCALENDAR
VERSION:2.0
PRODID:-//Lietuvos įtraukties švietime centras - ECPv6.15.20//NONSGML v1.0//EN
CALSCALE:GREGORIAN
METHOD:PUBLISH
X-WR-CALNAME:Lietuvos įtraukties švietime centras
X-ORIGINAL-URL:https://lisc.lt
X-WR-CALDESC:Lietuvos įtraukties švietime centras renginiai
REFRESH-INTERVAL;VALUE=DURATION:PT1H
X-Robots-Tag:noindex
X-PUBLISHED-TTL:PT1H
BEGIN:VTIMEZONE
TZID:Europe/Vilnius
BEGIN:DAYLIGHT
TZOFFSETFROM:+0200
TZOFFSETTO:+0300
TZNAME:EEST
DTSTART:20250330T010000
END:DAYLIGHT
BEGIN:STANDARD
TZOFFSETFROM:+0300
TZOFFSETTO:+0200
TZNAME:EET
DTSTART:20251026T010000
END:STANDARD
BEGIN:DAYLIGHT
TZOFFSETFROM:+0200
TZOFFSETTO:+0300
TZNAME:EEST
DTSTART:20260329T010000
END:DAYLIGHT
BEGIN:STANDARD
TZOFFSETFROM:+0300
TZOFFSETTO:+0200
TZNAME:EET
DTSTART:20261025T010000
END:STANDARD
BEGIN:DAYLIGHT
TZOFFSETFROM:+0200
TZOFFSETTO:+0300
TZNAME:EEST
DTSTART:20270328T010000
END:DAYLIGHT
BEGIN:STANDARD
TZOFFSETFROM:+0300
TZOFFSETTO:+0200
TZNAME:EET
DTSTART:20271031T010000
END:STANDARD
END:VTIMEZONE
BEGIN:VEVENT
DTSTART;TZID=Europe/Vilnius:20260330T103000
DTEND;TZID=Europe/Vilnius:20260330T143000
DTSTAMP:20260422T215535
CREATED:20260310T134246Z
LAST-MODIFIED:20260310T134246Z
UID:8323-1774866600-1774881000@lisc.lt
SUMMARY:Metodinė diena
DESCRIPTION:Kontaktinis renginys\, skirtas Šiaulių „Santakos“ ugdymo centro ir jam priskirto regiono pedagoginių psichologinių tarnybų (Akmenės r.\, Joniškio r.\, Kelmės r.\, Pakruojo r.\, Radviliškio r.\, Šiaulių m. ir Šiaulių r. ) specialistams.
URL:https://lisc.lt/renginys/metodine-diena-35/
LOCATION:Šiaulių „Santakos“ ugdymo centras\, K. Kalinausko g. 17\, Šiauliai
END:VEVENT
BEGIN:VEVENT
DTSTART;TZID=Europe/Vilnius:20260330T130000
DTEND;TZID=Europe/Vilnius:20260330T143000
DTSTAMP:20260422T215535
CREATED:20260325T085157Z
LAST-MODIFIED:20260325T085157Z
UID:8461-1774875600-1774881000@lisc.lt
SUMMARY:Supervizija
DESCRIPTION:Socialinių įgūdžių ugdymo programos „Mes – mąstytojai“ įgyvendinimas. Nuotolinis renginys\, skirtas programoje dalyvaujantiems pedagogams.
URL:https://lisc.lt/renginys/supervizija-13/
END:VEVENT
BEGIN:VEVENT
DTSTART;TZID=Europe/Vilnius:20260330T150000
DTEND;TZID=Europe/Vilnius:20260330T170000
DTSTAMP:20260422T215535
CREATED:20260325T084911Z
LAST-MODIFIED:20260325T084949Z
UID:8458-1774882800-1774890000@lisc.lt
SUMMARY:Supervizija
DESCRIPTION:Nuotolinis renginys „WISC-III administravimas\, vertinimas ir interpretavimas“\, skirtas pedagoginių psichologinių tarnybų psichologams.
URL:https://lisc.lt/renginys/supervizija-wisc-iii-administravimas-vertinimas-ir-interpretavimas-2/
END:VEVENT
BEGIN:VEVENT
DTSTART;TZID=Europe/Vilnius:20260330T160000
DTEND;TZID=Europe/Vilnius:20260330T173000
DTSTAMP:20260422T215535
CREATED:20260211T063646Z
LAST-MODIFIED:20260306T110621Z
UID:8088-1774886400-1774891800@lisc.lt
SUMMARY:Viešoji konsultacija
DESCRIPTION:Nuotolinis renginys „Sensorinės integracijos ypatumų atpažinimas mokiniams\, turintiems specialiųjų ugdymosi poreikių“\, skirtas regioninių specialiojo ugdymo centrų specialistams.
URL:https://lisc.lt/renginys/viesoji-konsultacija-sensorines-integracijos-ypatumu-atpazinimas-mokiniams-turintiems-specialiuju-ugdymosi-poreikiu-2/
END:VEVENT
END:VCALENDAR