BEGIN:VCALENDAR
VERSION:2.0
PRODID:-//Lietuvos įtraukties švietime centras - ECPv6.15.20//NONSGML v1.0//EN
CALSCALE:GREGORIAN
METHOD:PUBLISH
X-ORIGINAL-URL:https://lisc.lt
X-WR-CALDESC:Lietuvos įtraukties švietime centras renginiai
REFRESH-INTERVAL;VALUE=DURATION:PT1H
X-Robots-Tag:noindex
X-PUBLISHED-TTL:PT1H
BEGIN:VTIMEZONE
TZID:Europe/Vilnius
BEGIN:DAYLIGHT
TZOFFSETFROM:+0200
TZOFFSETTO:+0300
TZNAME:EEST
DTSTART:20250330T010000
END:DAYLIGHT
BEGIN:STANDARD
TZOFFSETFROM:+0300
TZOFFSETTO:+0200
TZNAME:EET
DTSTART:20251026T010000
END:STANDARD
BEGIN:DAYLIGHT
TZOFFSETFROM:+0200
TZOFFSETTO:+0300
TZNAME:EEST
DTSTART:20260329T010000
END:DAYLIGHT
BEGIN:STANDARD
TZOFFSETFROM:+0300
TZOFFSETTO:+0200
TZNAME:EET
DTSTART:20261025T010000
END:STANDARD
BEGIN:DAYLIGHT
TZOFFSETFROM:+0200
TZOFFSETTO:+0300
TZNAME:EEST
DTSTART:20270328T010000
END:DAYLIGHT
BEGIN:STANDARD
TZOFFSETFROM:+0300
TZOFFSETTO:+0200
TZNAME:EET
DTSTART:20271031T010000
END:STANDARD
END:VTIMEZONE
BEGIN:VEVENT
DTSTART;TZID=Europe/Vilnius:20260402T100000
DTEND;TZID=Europe/Vilnius:20260402T120000
DTSTAMP:20260423T183215
CREATED:20260330T054514Z
LAST-MODIFIED:20260330T054514Z
UID:8489-1775124000-1775131200@lisc.lt
SUMMARY:Paskaita „Skirtingi\, bet kartu: švietimo bendruomenės dialogas apie autizmą“
DESCRIPTION:Paskaita konferencijoje.
URL:https://lisc.lt/renginys/paskaita-skirtingi-bet-kartu-svietimo-bendruomenes-dialogas-apie-autizma/
LOCATION:Kauno r. Mastaičių mokykla-daugiafunkcis centras\, Mokslo g. 2a\, Mastaičiai\, Kauno r.
END:VEVENT
BEGIN:VEVENT
DTSTART;TZID=Europe/Vilnius:20260402T120000
DTEND;TZID=Europe/Vilnius:20260402T130000
DTSTAMP:20260423T183215
CREATED:20260330T055029Z
LAST-MODIFIED:20260330T055029Z
UID:8491-1775131200-1775134800@lisc.lt
SUMMARY:Pranešimas „Universalaus dizaino mokymuisi (UDM) principų taikymas įtraukioje klasėje“
DESCRIPTION:Pranešimas konferencijoje.
URL:https://lisc.lt/renginys/pranesimas-universalaus-dizaino-mokymuisi-udm-principu-taikymas-itraukioje-klaseje/
LOCATION:Šilalės Simono Gaudėšiaus gimnazija\, J. Basanavičiaus g. 25\, Šilalė
END:VEVENT
END:VCALENDAR