BEGIN:VCALENDAR
VERSION:2.0
PRODID:-//Lietuvos įtraukties švietime centras - ECPv6.15.20//NONSGML v1.0//EN
CALSCALE:GREGORIAN
METHOD:PUBLISH
X-ORIGINAL-URL:https://lisc.lt
X-WR-CALDESC:Lietuvos įtraukties švietime centras renginiai
REFRESH-INTERVAL;VALUE=DURATION:PT1H
X-Robots-Tag:noindex
X-PUBLISHED-TTL:PT1H
BEGIN:VTIMEZONE
TZID:Europe/Vilnius
BEGIN:DAYLIGHT
TZOFFSETFROM:+0200
TZOFFSETTO:+0300
TZNAME:EEST
DTSTART:20250330T010000
END:DAYLIGHT
BEGIN:STANDARD
TZOFFSETFROM:+0300
TZOFFSETTO:+0200
TZNAME:EET
DTSTART:20251026T010000
END:STANDARD
BEGIN:DAYLIGHT
TZOFFSETFROM:+0200
TZOFFSETTO:+0300
TZNAME:EEST
DTSTART:20260329T010000
END:DAYLIGHT
BEGIN:STANDARD
TZOFFSETFROM:+0300
TZOFFSETTO:+0200
TZNAME:EET
DTSTART:20261025T010000
END:STANDARD
BEGIN:DAYLIGHT
TZOFFSETFROM:+0200
TZOFFSETTO:+0300
TZNAME:EEST
DTSTART:20270328T010000
END:DAYLIGHT
BEGIN:STANDARD
TZOFFSETFROM:+0300
TZOFFSETTO:+0200
TZNAME:EET
DTSTART:20271031T010000
END:STANDARD
END:VTIMEZONE
BEGIN:VEVENT
DTSTART;TZID=Europe/Vilnius:20260408T100000
DTEND;TZID=Europe/Vilnius:20260408T130000
DTSTAMP:20260422T165657
CREATED:20260227T074924Z
LAST-MODIFIED:20260330T055541Z
UID:8206-1775642400-1775653200@lisc.lt
SUMMARY:Praktinis užsiėmimas „Socialinių įgūdžių užsiėmimai paaugliams“
DESCRIPTION:Kontaktinis renginys\, skirtas Vilniaus r. Sudervės M. Zdziechovskio pagrindinės mokyklos pedagogams.
URL:https://lisc.lt/renginys/praktinis-uzsiemimas/
LOCATION:Vilniaus rajono Sudervės M. Zdziechovskio pagrindinė mokykla\, M. Zdziechovskio g. 1\, Sudervė\, Vilniaus r.
END:VEVENT
END:VCALENDAR