BEGIN:VCALENDAR
VERSION:2.0
PRODID:-//Lietuvos įtraukties švietime centras - ECPv6.15.20//NONSGML v1.0//EN
CALSCALE:GREGORIAN
METHOD:PUBLISH
X-WR-CALNAME:Lietuvos įtraukties švietime centras
X-ORIGINAL-URL:https://lisc.lt
X-WR-CALDESC:Lietuvos įtraukties švietime centras renginiai
REFRESH-INTERVAL;VALUE=DURATION:PT1H
X-Robots-Tag:noindex
X-PUBLISHED-TTL:PT1H
BEGIN:VTIMEZONE
TZID:Europe/Vilnius
BEGIN:DAYLIGHT
TZOFFSETFROM:+0200
TZOFFSETTO:+0300
TZNAME:EEST
DTSTART:20250330T010000
END:DAYLIGHT
BEGIN:STANDARD
TZOFFSETFROM:+0300
TZOFFSETTO:+0200
TZNAME:EET
DTSTART:20251026T010000
END:STANDARD
BEGIN:DAYLIGHT
TZOFFSETFROM:+0200
TZOFFSETTO:+0300
TZNAME:EEST
DTSTART:20260329T010000
END:DAYLIGHT
BEGIN:STANDARD
TZOFFSETFROM:+0300
TZOFFSETTO:+0200
TZNAME:EET
DTSTART:20261025T010000
END:STANDARD
BEGIN:DAYLIGHT
TZOFFSETFROM:+0200
TZOFFSETTO:+0300
TZNAME:EEST
DTSTART:20270328T010000
END:DAYLIGHT
BEGIN:STANDARD
TZOFFSETFROM:+0300
TZOFFSETTO:+0200
TZNAME:EET
DTSTART:20271031T010000
END:STANDARD
END:VTIMEZONE
BEGIN:VEVENT
DTSTART;TZID=Europe/Vilnius:20260422T130000
DTEND;TZID=Europe/Vilnius:20260422T170000
DTSTAMP:20260422T051455
CREATED:20260330T062159Z
LAST-MODIFIED:20260330T062159Z
UID:8511-1776862800-1776877200@lisc.lt
SUMMARY:Seminaras „Klasės valdymo strategijos“
DESCRIPTION:Kontaktinis renginys\, skirtas Alytaus Putinų gimnazijos pedagogams\, švietimo pagalbos specialistams.
URL:https://lisc.lt/renginys/seminaras-klases-valdymo-strategijos-7/
LOCATION:Alytaus Putinų gimnazija
END:VEVENT
BEGIN:VEVENT
DTSTART;TZID=Europe/Vilnius:20260422T133000
DTEND;TZID=Europe/Vilnius:20260422T150000
DTSTAMP:20260422T051455
CREATED:20260330T062020Z
LAST-MODIFIED:20260415T095831Z
UID:8509-1776864600-1776870000@lisc.lt
SUMMARY:Paskaita „Mokinio padėjėjo vaidmuo dirbant su vaikais\, turinčiais elgesio ar (ir) emocijų sutrikimų“
DESCRIPTION:Nuotolinis renginys\, skirtas ugdymo įstaigų pedagogams\, mokinio padėjėjams. \nPaskaita vyks „Microsoft Teams“ bendradarbiavimo ir komunikavimo aplinkoje. Prisijungti galite čia.
URL:https://lisc.lt/renginys/paskaita-mokinio-padejejo-vaidmuo-dirbant-su-vaikais-turinciais-elgesio-ar-ir-emociju-sutrikimu/
END:VEVENT
BEGIN:VEVENT
DTSTART;TZID=Europe/Vilnius:20260422T140000
DTEND;TZID=Europe/Vilnius:20260422T163000
DTSTAMP:20260422T051455
CREATED:20260415T054850Z
LAST-MODIFIED:20260415T054850Z
UID:8630-1776866400-1776875400@lisc.lt
SUMMARY:Seminaras „VBMĮ-2 vertinimas lenkų kalba“
DESCRIPTION:Nuotolinis renginys\, skirtas pedagoginių psichologinių tarnybų\, taip pat ugdymo įstaigų psichologams\, savo darbe naudojantiems VBMĮ-2 ir vertinantiems arba planuojantiems vertinti lenkų kalba.
URL:https://lisc.lt/renginys/seminaras-vbmi-2-vertinimas-lenku-kalba/
END:VEVENT
END:VCALENDAR